BEGIN:VCALENDAR
VERSION:2.0
PRODID:-//Bellingham Country Dance Society - ECPv6.15.20//NONSGML v1.0//EN
CALSCALE:GREGORIAN
METHOD:PUBLISH
X-ORIGINAL-URL:https://bellinghamcountrydance.org
X-WR-CALDESC:Events for Bellingham Country Dance Society
REFRESH-INTERVAL;VALUE=DURATION:PT1H
X-Robots-Tag:noindex
X-PUBLISHED-TTL:PT1H
BEGIN:VTIMEZONE
TZID:America/Los_Angeles
BEGIN:DAYLIGHT
TZOFFSETFROM:-0800
TZOFFSETTO:-0700
TZNAME:PDT
DTSTART:20250309T100000
END:DAYLIGHT
BEGIN:STANDARD
TZOFFSETFROM:-0700
TZOFFSETTO:-0800
TZNAME:PST
DTSTART:20251102T090000
END:STANDARD
BEGIN:DAYLIGHT
TZOFFSETFROM:-0800
TZOFFSETTO:-0700
TZNAME:PDT
DTSTART:20260308T100000
END:DAYLIGHT
BEGIN:STANDARD
TZOFFSETFROM:-0700
TZOFFSETTO:-0800
TZNAME:PST
DTSTART:20261101T090000
END:STANDARD
BEGIN:DAYLIGHT
TZOFFSETFROM:-0800
TZOFFSETTO:-0700
TZNAME:PDT
DTSTART:20270314T100000
END:DAYLIGHT
BEGIN:STANDARD
TZOFFSETFROM:-0700
TZOFFSETTO:-0800
TZNAME:PST
DTSTART:20271107T090000
END:STANDARD
END:VTIMEZONE
BEGIN:VEVENT
DTSTART;TZID=America/Los_Angeles:20260516T180000
DTEND;TZID=America/Los_Angeles:20260516T213000
DTSTAMP:20260419T214220
CREATED:20260329T170835Z
LAST-MODIFIED:20260329T171240Z
UID:2000-1778954400-1778967000@bellinghamcountrydance.org
SUMMARY:Potluck & Square Dance: Alder Leaf Stringband + Alex MacLeod
DESCRIPTION:Join us for our May potluck and square dance! Don’t know how to do-si-do or allemande left? No problem! No experience or partner necessary. All dances will be taught by the caller. \nIf joining for the potluck\, please bring a dish to share (if you can) and a label with ingredients for people with dietary restrictions. If you don’t have time\, don’t worry! Join us for a delicious meal anyhow. This is a non-alcoholic\, all ages event. \nPotluck: 6:00 pm – 7:00 pm. Eat\, chat\, and make friends! \nDance: 7:00 pm – 9:30 pm. Dance\, laugh\, and cry tears of joy! \nLocation: Fairhaven Library\, 1117 12th St\, Bellingham\, WA 98225 \nEntry: $12–15; $8 students (by donation) \nAbout the band: Hailing from Bellingham the Alder Leaf Stringband includes Levi-Woolen Danner\, Stuart Illson\, Andy Rick and Jesse Stein. Favorite pastimes include tearing into the old chestnuts and long walks on the beach. \nAbout the caller: Alex MacLeod is a square dance fiddler and caller from Seattle. An early member of the Seattle Subversive Square Dance Society\, Alex has played or called for dances in barns\, on boats\, in fields and at farmer’s markets\, in kitchens and on back decks\, in taverns and in church basements\, in grange halls and every once and awhile in big ballrooms with sprung wood floors! Alex learned his early old-time fiddling from the Canote brothers string band class\, in Seattle\, then almost immediately threw himself into organizing and playing for square dances. He learned his calling from square dance communities in the Pacific Northwest\, and from national masters at events including The Festival of American Fiddle Tunes and Dare To Be Square West. Alex believes that music and dance are essential parts of communities making their own fun\, and strengthening connections along the way. Outside of old time pursuits\, you might find him out foraging\, hunting\, and hiking all over the Northwest\, building instruments in his shop\, or dutch oven cooking in a campground somewhere.
URL:https://bellinghamcountrydance.org/event/potluck-square-dance-alder-leaf-stringband-alex-macleod/
CATEGORIES:Square Dance
END:VEVENT
END:VCALENDAR